BEGIN:VCALENDAR
VERSION:2.0
PRODID:-//hacksw/handcal//NONSGML v1.0//EN
BEGIN:VEVENT
SUMMARY:permanence avril 2026
UID:7bc78514-3cf5-4b34-bfe7-d19e922b7505
DTSTART:20260415T163000Z
DTEND:20260415T220000Z
LOCATION:Localisation   
CATEGORIES:Sportif
STATUS:
URL;VALUE=URI:https://www.ac-chemin-long.fr/evenements/2026/04/15/permanence-avril-2026-2439831
END:VEVENT
END:VCALENDAR
